BEGIN:VCALENDAR
VERSION:2.0
PRODID:-//TiHo Hannover Kurse - ECPv6.15.15//NONSGML v1.0//EN
CALSCALE:GREGORIAN
METHOD:PUBLISH
X-ORIGINAL-URL:https://tierschutz-kurse.de
X-WR-CALDESC:Events for TiHo Hannover Kurse
REFRESH-INTERVAL;VALUE=DURATION:PT1H
X-Robots-Tag:noindex
X-PUBLISHED-TTL:PT1H
BEGIN:VTIMEZONE
TZID:Europe/Berlin
BEGIN:DAYLIGHT
TZOFFSETFROM:+0100
TZOFFSETTO:+0200
TZNAME:CEST
DTSTART:20220327T010000
END:DAYLIGHT
BEGIN:STANDARD
TZOFFSETFROM:+0200
TZOFFSETTO:+0100
TZNAME:CET
DTSTART:20221030T010000
END:STANDARD
BEGIN:DAYLIGHT
TZOFFSETFROM:+0100
TZOFFSETTO:+0200
TZNAME:CEST
DTSTART:20230326T010000
END:DAYLIGHT
BEGIN:STANDARD
TZOFFSETFROM:+0200
TZOFFSETTO:+0100
TZNAME:CET
DTSTART:20231029T010000
END:STANDARD
BEGIN:DAYLIGHT
TZOFFSETFROM:+0100
TZOFFSETTO:+0200
TZNAME:CEST
DTSTART:20240331T010000
END:DAYLIGHT
BEGIN:STANDARD
TZOFFSETFROM:+0200
TZOFFSETTO:+0100
TZNAME:CET
DTSTART:20241027T010000
END:STANDARD
END:VTIMEZONE
BEGIN:VEVENT
DTSTART;VALUE=DATE:20230612
DTEND;VALUE=DATE:20230622
DTSTAMP:20260425T060136
CREATED:20230531T120347Z
LAST-MODIFIED:20230627T145329Z
UID:10000039-1686528000-1687391999@tierschutz-kurse.de
SUMMARY:Kurs zum Erwerb der versuchstierkundlichen Kenntnisse für Tierärzt*innen (inkl. Studierende)
DESCRIPTION:Für die wissenschaftliche Arbeit mit Tieren (Pflegen und Töten von Tieren\, Durchführung von Verfahren am Tier; EU-Funktionen A\, C\, D) ist innerhalb der EU\, aber auch in Nicht-EU-Ländern\, der Nachweis der versuchstierkundlichen Sachkunde in Theorie und Praxis erforderlich.\nDer Theoriekurs vermittelt alle von der EU-Richtlinie 2010/63 (Anhang V) und der Tierschutzversuchstierverordnung (Anlage 1) geforderten tierart-unspezifischen und tierart-spezifischen Inhalte in Bezug auf die Spezies Maus und Ratte. \nFür wen ist der Kurs geeignet?\nFür alle Tiermediziner/-innen und Studierende der Tiermedizin\,\na) die zu wissenschaftlichen Zwecken nur mit Tieren und Verfahren arbeiten wollen\, die im Studium Teil der regulären Pflichtlehre sind (z.B. Injektionen\, Blutentnahmen\, einfache chirurgische Nähte bei Hunden\, Schweinen\, Schafen usw.)\, und\nb) bei denen die zuständige Behörde den Sachkundenachweis zusätzlich zum Nachweis des erfolgreich abgeschlossenen Studiums einfordert. \nKursinhalte\nDie Kursinhalte können in freier Zeiteinteilung im Selbststudium innerhalb einer Woche in deutscher oder englischer Sprache erarbeitet werden (E-Learning). Nach der Anmeldung werden die Kursunterlagen\, am Tag des Kurses\, für Sie freigeschaltet. Die erfolgreiche Kursteilnahme wird durch ein Zertifikat in deutscher Sprache bestätigt. \nKosten:\n0 € für TiHo-Mitarbeiter:Innen\, TiHo-Studierende und TiHo-Promotionsstudierende\, die an der TiHo angestellt sind\n150 € für TiHo-Promotionsstudierende\, die nicht an der TiHo angestellt sind\n400 € für alle Externen \n 
URL:https://tierschutz-kurse.de/kurs/kurs-zum-erwerb-der-gesetzlich-geforderten-versuchstierkundlichen-kenntnisse-fur-tierarztinnen-2/
LOCATION:online
CATEGORIES:Sachkunde_de
ORGANIZER;CN="Prof. Dr. Bernhard Hiebl":MAILTO:bernhard.hiebl@tiho-hannover.de
END:VEVENT
BEGIN:VEVENT
DTSTART;VALUE=DATE:20230628
DTEND;VALUE=DATE:20230714
DTSTAMP:20260425T060136
CREATED:20230525T082524Z
LAST-MODIFIED:20230620T151752Z
UID:10000032-1687910400-1689292799@tierschutz-kurse.de
SUMMARY:Basiskurs „Tierschutz/Versuchstierkunde“ (ehem. FELASA B-Kurs) für Personen\, die mit Tieren arbeiten (Pflege\, Tötung und Durchführung von Verfahren) EU-Kategorien A\, C\, D  Spezies: Maus & Ratte
DESCRIPTION:Für die wissenschaftliche Arbeit mit Tieren (Pflegen und Töten von Tieren\, Durchführung von Verfahren am Tier; EU-Funktionen A\, C\, D) ist innerhalb der EU\, aber auch in Nicht-EU-Ländern\, der Nachweis der versuchstierkundlichen Sachkunde in Theorie und Praxis erforderlich.\nDazu bietet die TiHo Kurse in deutscher und englischer Sprache für die Spezies Maus und Ratte an\, die inhaltlich mit den ehemaligen FELASA B-Kursen vergleichbar und von der GV-SOLAS zertifiziert sind. \nRegelungen für Auszubildende \nAuszubildende zum/zur Biologielaborant*in: \n\nKurs-Anmeldung ist erst nach dem zweiten Lehrjahr möglich (da der Kurs inhaltlich und zeitlich nicht darauf ausgelegt ist\, die Prüfung im zweiten Lehrjahr vorzubereiten).\n\nAuszubildende zum/zur Tierpfleger*in: \n\nKurs-Anmeldung ist erst nach Abschluss der Ausbildung möglich.\n\nKursablauf:\nOnline-Theoriekurs in Kombination mit einem Praxistraining in Präsenz\n1. Woche: Vermittlung der theoretischen Sachkunde\nWie? E-Learning (Selbststudium mit freier Zeiteinteilung)\nWo? MS-TEAMS \n2. Woche: Vermittlung der praktischen Sachkunde\nWie? Training in Kleingruppen (9 Personen/Gruppe)\nWo? TiHo\, Bischofsholer Damm 15\, Geb. 123 \nNach der Anmeldung werden die Kursunterlagen für Sie freigeschaltet. \nDie erfolgreiche Kursteilnahme wird durch ein Zertifikat in deutscher Sprache bestätigt. \nKosten:\n0 € für die erste Anmeldung von TiHo-Mitarbeiter:Innen\, TiHo-Studierende und TiHo-Promotionsstudierende\, die an der TiHo angestellt sind\n750 € für TiHo-Promotionsstudierende\, die nicht an der TiHo angestellt sind\n1.500 € für alle Externen \nBei Bedarf helfen wir Ihnen gerne bei der Suche nach einer günstigen und Standortnahen Unterkunft. \nFür mehr Informationen zum Kurs klicken Sie auf folgenden Link: \nKursinformationen
URL:https://tierschutz-kurse.de/kurs/versuchstierkundlicher-basiskurs-gemas-eu-funktionen-a-c-d-spezies-maus-und-ratte/
LOCATION:TiHo-Campus Bischofsholer Damm\, Geb. 123\, Bischofsholer Damm 15\, Hannover\, Niedersachsen\, 30173
CATEGORIES:FELASA_B_de
ORGANIZER;CN="Prof. Dr. Bernhard Hiebl":MAILTO:bernhard.hiebl@tiho-hannover.de
END:VEVENT
END:VCALENDAR