BEGIN:VCALENDAR
VERSION:2.0
PRODID:-//TiHo Hannover Kurse - ECPv6.15.15//NONSGML v1.0//EN
CALSCALE:GREGORIAN
METHOD:PUBLISH
X-WR-CALNAME:TiHo Hannover Kurse
X-ORIGINAL-URL:https://tierschutz-kurse.de
X-WR-CALDESC:Events for TiHo Hannover Kurse
REFRESH-INTERVAL;VALUE=DURATION:PT1H
X-Robots-Tag:noindex
X-PUBLISHED-TTL:PT1H
BEGIN:VTIMEZONE
TZID:Europe/Berlin
BEGIN:DAYLIGHT
TZOFFSETFROM:+0100
TZOFFSETTO:+0200
TZNAME:CEST
DTSTART:20230326T010000
END:DAYLIGHT
BEGIN:STANDARD
TZOFFSETFROM:+0200
TZOFFSETTO:+0100
TZNAME:CET
DTSTART:20231029T010000
END:STANDARD
BEGIN:DAYLIGHT
TZOFFSETFROM:+0100
TZOFFSETTO:+0200
TZNAME:CEST
DTSTART:20240331T010000
END:DAYLIGHT
BEGIN:STANDARD
TZOFFSETFROM:+0200
TZOFFSETTO:+0100
TZNAME:CET
DTSTART:20241027T010000
END:STANDARD
BEGIN:DAYLIGHT
TZOFFSETFROM:+0100
TZOFFSETTO:+0200
TZNAME:CEST
DTSTART:20250330T010000
END:DAYLIGHT
BEGIN:STANDARD
TZOFFSETFROM:+0200
TZOFFSETTO:+0100
TZNAME:CET
DTSTART:20251026T010000
END:STANDARD
END:VTIMEZONE
BEGIN:VEVENT
DTSTART;VALUE=DATE:20241111
DTEND;VALUE=DATE:20241120
DTSTAMP:20260421T051120
CREATED:20231107T142036Z
LAST-MODIFIED:20241107T093653Z
UID:10000103-1731283200-1732060799@tierschutz-kurse.de
SUMMARY:Fokuskurs "Deutsches Tierversuchsrecht"
DESCRIPTION:Für die wissenschaftliche Arbeit mit Tieren (Pflegen und Töten von Tieren\, Durchführung von Verfahren am Tier; EU-Funktionen A\, C\, D) ist innerhalb der EU\, aber auch in Nicht-EU-Ländern\, der Nachweis der versuchstierkundlichen Sachkunde in Theorie und Praxis erforderlich. \nDer Theoriekurs vermittelt von der EU-Richtlinie 2010/63 (Anhang V) und der Tierschutzversuchstierverordnung (Anlage 1) geforderte Kenntnisse des nationalen Versuchstierrechts. \nFür wen ist der Kurs geeignet? \nFür alle\, die bereits im EU- und Nicht-EU-Ausland einen versuchstierkundlichen Kurs besucht haben\, und nun die Kenntnis der Rechtsgrundlagen zu Tierversuchen in Deutschland nachweisen müssen. \nKursinhalte \nDie Kursinhalte können in freier Zeiteinteilung im Selbststudium innerhalb einer Woche in deutscher oder englischer Sprache erarbeitet werden (E-Learning\, asynchron). Nach der Anmeldung werden die Kursunterlagen für Sie freigeschaltet. Die erfolgreiche Kursteilnahme wird durch ein Zertifikat in deutscher Sprache bestätigt. \nKosten \n0 € für TiHo-Mitarbeiter:Innen\, TiHo-Studierende und TiHo-Promotionsstudierende\, die an der TiHo angestellt sind \n200 € für alle Externen
URL:https://tierschutz-kurse.de/kurs/fokuskurs-deutsches-versuchstierrecht-17/
LOCATION:online
CATEGORIES:Fokuskurs_Tierversuchsrecht_de
ORGANIZER;CN="Prof. Dr. Bernhard Hiebl":MAILTO:bernhard.hiebl@tiho-hannover.de
END:VEVENT
BEGIN:VEVENT
DTSTART;VALUE=DATE:20241111
DTEND;VALUE=DATE:20241120
DTSTAMP:20260421T051120
CREATED:20231113T114031Z
LAST-MODIFIED:20241104T084348Z
UID:10000107-1731283200-1732060799@tierschutz-kurse.de
SUMMARY:Specialised lesson „german laboratory animal welfare law“
DESCRIPTION:For scientific work with animals (caring for and killing animals\, performing procedures on animals; EU functions A\, C\, D)\, within the EU\, but also in non-EU countries\, proof of expertise in laboratory animal science in theory and practice is required. \nThis theory course imparts contents regarding german laboratory animal welfare law required by the EU directive 2010/63 (Annex V) and Tierschutzversuchstierverordnung (Annex 1). \nFor whom this course is made for?\nFor everyone who did a labororyatory animal course abroad and needs a proof of expertise in german laboratory welfare law required by the competent authorities. \nCourse schedule:\nThe complete course is online and all e-learning modules are in englisch.\nIn order to work through the e-learning modules you have one week for your self studies.\nAfter your registration you will get access to the e-learning modules via MS Teams\, when the course starts.\nAfter passing online exam you will get a certificate in german language. \nCost:\n0 € for the first registration of TiHo employees\, TiHo students and TiHo doctoral students who are employed at the TiHo. \n200 € for all external participants
URL:https://tierschutz-kurse.de/kurs/specialised-lesson-german-laboratory-animal-welfare-law-14/
CATEGORIES:Fokuskurs_Versuchstierrecht_en
END:VEVENT
BEGIN:VEVENT
DTSTART;VALUE=DATE:20241111
DTEND;VALUE=DATE:20241121
DTSTAMP:20260421T051120
CREATED:20231106T125038Z
LAST-MODIFIED:20241107T093924Z
UID:10000090-1731283200-1732147199@tierschutz-kurse.de
SUMMARY:Kurs zum Erwerb der versuchstierkundlichen Kenntnisse
DESCRIPTION:Für die wissenschaftliche Arbeit mit Tieren (Pflegen und Töten von Tieren\, Durchführung von Verfahren am Tier; EU-Funktionen A\, C\, D) ist innerhalb der EU\, aber auch in Nicht-EU-Ländern\, der Nachweis der versuchstierkundlichen Sachkunde in Theorie und Praxis erforderlich.\nDer Theoriekurs vermittelt alle von der EU-Richtlinie 2010/63 (Anhang V) und der Tierschutzversuchstierverordnung (Anlage 1) geforderten tierart-unspezifischen und tierart-spezifischen Inhalte in Bezug auf die Spezies Fisch\, Maus\, Ratte\, Kaninchen\, Meerschweinchen\, Nutzgeflügel und Schwein. \nFür wen ist der Kurs geeignet?\nFür alle Personen\, die sich an Tierversuchen beteiligen wollen\, und für die Zieltierart bereits die nötige praktische Expertise belegen können. \nBeispiel: Tiermediziner/-innen\, die im Rahmen eines Forschungsprojektes an Tieren Maßnahmen umsetzen wollen\, die im Studium Teil der regulären Pflichtlehre sind (z.B. Injektionen\, Blutentnahmen\, einfache chirurgische Nähte bei Hunden\, Katzen\, Schweinen\, Schafen\, Ziegen\, Rindern\, Pferden). \nKursinhalte\nDie Kursinhalte können in freier Zeiteinteilung im Selbststudium innerhalb einer Woche in deutscher oder englischer Sprache erarbeitet werden (E-Learning). Nach der Anmeldung werden die Kursunterlagen\, am Tag des Kurses\, für Sie freigeschaltet. Die erfolgreiche Kursteilnahme wird durch ein Zertifikat in deutscher Sprache bestätigt. \nKosten:\n0 € für TiHo-Mitarbeiter:Innen\, TiHo-Studierende und TiHo-Promotionsstudierende\, die an der TiHo angestellt sind\n150 € für TiHo-Promotionsstudierende\, die nicht an der TiHo angestellt sind\n400 € für alle Externen \n 
URL:https://tierschutz-kurse.de/kurs/kurs-zum-erwerb-der-versuchstierkundlichen-kenntnisse-fur-tierarztinnen-inkl-studierende-16/
LOCATION:online
CATEGORIES:Sachkunde_de
ORGANIZER;CN="Prof. Dr. Bernhard Hiebl":MAILTO:bernhard.hiebl@tiho-hannover.de
END:VEVENT
BEGIN:VEVENT
DTSTART;VALUE=DATE:20241127
DTEND;VALUE=DATE:20241213
DTSTAMP:20260421T051120
CREATED:20230904T121134Z
LAST-MODIFIED:20241121T133326Z
UID:10000063-1732665600-1734047999@tierschutz-kurse.de
SUMMARY:Basic course „animal welfare/laboratory animal science“ (formerly FELASA B-course) for people who work with animals (taking care\, killing animals and carrying out procedures) EU functions A\, C\, D Species: mouse & rat
DESCRIPTION:For scientific work with animals (caring for and killing animals\, performing procedures on animals; EU functions A\, C\, D)\, within the EU\, but also in non-EU countries\, proof of expertise in laboratory animal science in theory and practice is required.\nFor this purpose\, the TiHo offers courses in German and English for the mouse/rat species\, the content of which is comparable to the former FELASA B courses.\nThese courses are certified by GV-SOLAS and accepted by the ATF with 19 hours. \nRegulations for apprentices \nBiology lab technician apprentices \n\nCourse registration is only possible after the second year of training (as the course is not designed to prepare for the examination in the second year of training in terms of content and time).\n\nAnimal caretaker apprentices: \n\nCourse registration is only possible after completion of the apprenticeship.\n\n  \nCourse schedule:\nOnline theory course in combination with practical training in presence.\nWeek 1: Teaching of theoretical knowledge\nHow? asynchronous E-learning (self-study with free time management)\nWhere? MS-TEAMS \nWeek 2: Teaching of practical skills\nHow? Training in small groups (9 persons/group)\nWhere? TiHo\, Bischofsholer Damm 15\, building 123 \nMultiple registrations using the same name are not possible and will be cancelled. \nAt the start of the theory lesson\, the course documents will be made available to you. Successful course participation is confirmed by a certificate in english. \n  \nCost:\n0 € for the first registration of TiHo employees\, TiHo students and TiHo doctoral students who are employed at the TiHo.\n750 € for TiHo doctoral students who are not employed at the TiHo\n1.500 € for all external students \nIf required\, we will be happy to help you find affordable accommodation close to your location. \nFor more information on the course follow the link: \ncourse information
URL:https://tierschutz-kurse.de/kurs/basic-course-animal-welfare-laboratory-animal-science-formerly-felasa-b-course-for-people-who-work-with-animals-taking-care-killing-animals-and-carrying-out-procedures-eu-functi-2/
LOCATION:TiHo-Campus Bischofsholer Damm\, Geb. 123\, Bischofsholer Damm 15\, Hannover\, Niedersachsen\, 30173
CATEGORIES:FELASA_B_en
ATTACH;FMTTYPE=image/png:https://tierschutz-kurse.de/wp-content/uploads/2023/03/Icon-FelasaA-1_frei.png
ORGANIZER;CN="Prof. Dr. Bernhard Hiebl":MAILTO:bernhard.hiebl@tiho-hannover.de
END:VEVENT
END:VCALENDAR