BEGIN:VCALENDAR
VERSION:2.0
PRODID:-//TiHo Hannover Kurse - ECPv6.15.15//NONSGML v1.0//EN
CALSCALE:GREGORIAN
METHOD:PUBLISH
X-ORIGINAL-URL:https://tierschutz-kurse.de
X-WR-CALDESC:Events for TiHo Hannover Kurse
REFRESH-INTERVAL;VALUE=DURATION:PT1H
X-Robots-Tag:noindex
X-PUBLISHED-TTL:PT1H
BEGIN:VTIMEZONE
TZID:Europe/Berlin
BEGIN:DAYLIGHT
TZOFFSETFROM:+0100
TZOFFSETTO:+0200
TZNAME:CEST
DTSTART:20240331T010000
END:DAYLIGHT
BEGIN:STANDARD
TZOFFSETFROM:+0200
TZOFFSETTO:+0100
TZNAME:CET
DTSTART:20241027T010000
END:STANDARD
BEGIN:DAYLIGHT
TZOFFSETFROM:+0100
TZOFFSETTO:+0200
TZNAME:CEST
DTSTART:20250330T010000
END:DAYLIGHT
BEGIN:STANDARD
TZOFFSETFROM:+0200
TZOFFSETTO:+0100
TZNAME:CET
DTSTART:20251026T010000
END:STANDARD
BEGIN:DAYLIGHT
TZOFFSETFROM:+0100
TZOFFSETTO:+0200
TZNAME:CEST
DTSTART:20260329T010000
END:DAYLIGHT
BEGIN:STANDARD
TZOFFSETFROM:+0200
TZOFFSETTO:+0100
TZNAME:CET
DTSTART:20261025T010000
END:STANDARD
END:VTIMEZONE
BEGIN:VEVENT
DTSTART;VALUE=DATE:20250331
DTEND;VALUE=DATE:20250410
DTSTAMP:20260420T165632
CREATED:20241106T123422Z
LAST-MODIFIED:20250217T110351Z
UID:10000134-1743379200-1744243199@tierschutz-kurse.de
SUMMARY:Kurs zum Erwerb der versuchstierkundlichen Kenntnisse
DESCRIPTION:Für die wissenschaftliche Arbeit mit Tieren (Pflegen und Töten von Tieren\, Durchführung von Verfahren am Tier; EU-Funktionen A\, C\, D) ist innerhalb der EU\, aber auch in Nicht-EU-Ländern\, der Nachweis der versuchstierkundlichen Sachkunde in Theorie und Praxis erforderlich.\nDer Theoriekurs vermittelt alle von der EU-Richtlinie 2010/63 (Anhang V) und der Tierschutzversuchstierverordnung (Anlage 1) geforderten tierart-unspezifischen und tierart-spezifischen Inhalte in Bezug auf die Spezies Fisch\, Maus\, Ratte\, Kaninchen\, Meerschweinchen\, Nutzgeflügel und Schwein. \nFür wen ist der Kurs geeignet?\nFür alle Personen\, die sich an Tierversuchen beteiligen wollen\, und für die Zieltierart bereits die nötige praktische Expertise belegen können. \nBeispiel: Tiermediziner/-innen\, die im Rahmen eines Forschungsprojektes an Tieren Maßnahmen umsetzen wollen\, die im Studium Teil der regulären Pflichtlehre sind (z.B. Injektionen\, Blutentnahmen\, einfache chirurgische Nähte bei Hunden\, Katzen\, Schweinen\, Schafen\, Ziegen\, Rindern\, Pferden). \nKursinhalte\nDie Kursinhalte können in freier Zeiteinteilung im Selbststudium innerhalb einer Woche in deutscher oder englischer Sprache erarbeitet werden (E-Learning). Nach der Anmeldung werden die Kursunterlagen\, am Tag des Kurses\, für Sie freigeschaltet. Die erfolgreiche Kursteilnahme wird durch ein Zertifikat in deutscher Sprache bestätigt. \nKosten:\n0 € für die erste Anmeldung von TiHo-Mitarbeiter*innen\, TiHo-Studierenden im PJ und Promotionsstudierenden mit TiHo-Arbeitsvertrag\n600 € für externe Teilnehmer*innen und wiederholte Anmeldungen von TiHo-Mitarbeiter*innen\, TiHo-Studierenden im PJ und Promotionsstudierenden mit TiHo-Arbeitsvertrag \n 
URL:https://tierschutz-kurse.de/kurs/kurs-zum-erwerb-der-versuchstierkundlichen-kenntnisse-5/
LOCATION:online
CATEGORIES:Sachkunde_de
ORGANIZER;CN="Prof. Dr. Bernhard Hiebl":MAILTO:bernhard.hiebl@tiho-hannover.de
END:VEVENT
BEGIN:VEVENT
DTSTART;VALUE=DATE:20250331
DTEND;VALUE=DATE:20250410
DTSTAMP:20260420T165632
CREATED:20241107T100836Z
LAST-MODIFIED:20250217T124648Z
UID:10000149-1743379200-1744243199@tierschutz-kurse.de
SUMMARY:Fokuskurs "Deutsches Tierversuchsrecht"
DESCRIPTION:Für die wissenschaftliche Arbeit mit Tieren (Pflegen und Töten von Tieren\, Durchführung von Verfahren am Tier; EU-Funktionen A\, C\, D) ist innerhalb der EU\, aber auch in Nicht-EU-Ländern\, der Nachweis der versuchstierkundlichen Sachkunde in Theorie und Praxis erforderlich. \nDer Theoriekurs vermittelt von der EU-Richtlinie 2010/63 (Anhang V) und der Tierschutzversuchstierverordnung (Anlage 1) geforderte Kenntnisse des nationalen Versuchstierrechts. \nFür wen ist der Kurs geeignet? \nFür alle\, die bereits im EU- und Nicht-EU-Ausland einen versuchstierkundlichen Kurs besucht haben\, und nun die Kenntnis der Rechtsgrundlagen zu Tierversuchen in Deutschland nachweisen müssen. \nKursinhalte \nDie Kursinhalte können in freier Zeiteinteilung im Selbststudium innerhalb einer Woche in deutscher oder englischer Sprache erarbeitet werden (E-Learning\, asynchron). Nach der Anmeldung werden die Kursunterlagen für Sie freigeschaltet. Die erfolgreiche Kursteilnahme wird durch ein Zertifikat in deutscher Sprache bestätigt. \nKosten \n0 € für die erste Anmeldung von TiHo-Mitarbeiter:Innen\, TiHo-Studierende und TiHo-Promotionsstudierende mit TiHo-Arbeitsvertrag \n400 € für alle Externen und wiederholte Anmeldung von TiHo-Mitarbeiter*innen\, TiHo-Studierenden im PJ und Promotionsstudierenden mit TiHo-Arbeitsvertrag \n 
URL:https://tierschutz-kurse.de/kurs/fokuskurs-deutsches-tierversuchsrecht-4/
LOCATION:online
CATEGORIES:Fokuskurs_Tierversuchsrecht_de
ORGANIZER;CN="Prof. Dr. Bernhard Hiebl":MAILTO:bernhard.hiebl@tiho-hannover.de
END:VEVENT
BEGIN:VEVENT
DTSTART;VALUE=DATE:20250331
DTEND;VALUE=DATE:20250410
DTSTAMP:20260420T165632
CREATED:20241107T121237Z
LAST-MODIFIED:20250217T130904Z
UID:10000161-1743379200-1744243199@tierschutz-kurse.de
SUMMARY:Specialised lesson „german laboratory animal welfare law“
DESCRIPTION:For scientific work with animals (caring for and killing animals\, performing procedures on animals; EU functions A\, C\, D)\, within the EU\, but also in non-EU countries\, proof of expertise in laboratory animal science in theory and practice is required. \nThis theory course imparts contents regarding german laboratory animal welfare law required by the EU directive 2010/63 (Annex V) and Tierschutzversuchstierverordnung (Annex 1). \nFor whom this course is made for?\nFor everyone who did a labororyatory animal course abroad and needs a proof of expertise in german laboratory welfare law required by the competent authorities. \nCourse schedule:\nThe complete course is online and all e-learning modules are in englisch.\nIn order to work through the e-learning modules you have one week for your self studies.\nAfter your registration you will get access to the e-learning modules via MS Teams\, when the course starts.\nAfter passing online exam you will get a certificate in german language. \nCost:\n0 € for the first registration of TiHo employees\, TiHo students and TiHo doctoral students with a TiHo employment contract \n400 € for all external and repeated registration of TiHo employees\, TiHo students in PJ and doctoral students with TiHo employment contract \n 
URL:https://tierschutz-kurse.de/kurs/specialised-lesson-german-laboratory-animal-welfare-law-19/
CATEGORIES:Fokuskurs_Versuchstierrecht_en
END:VEVENT
BEGIN:VEVENT
DTSTART;VALUE=DATE:20250331
DTEND;VALUE=DATE:20250418
DTSTAMP:20260420T165632
CREATED:20241023T135451Z
LAST-MODIFIED:20241126T140711Z
UID:10000121-1743379200-1744934399@tierschutz-kurse.de
SUMMARY:Basiskurs „Tierschutz/Versuchstierkunde“ (ehem. FELASA B-Kurs) für Personen\, die mit Tieren arbeiten (Pflege\, Tötung und Durchführung von Verfahren) EU-Kategorien A\, C\, D  Spezies: Maus & Ratte
DESCRIPTION:Für die wissenschaftliche Arbeit mit Tieren (Pflegen und Töten von Tieren\, Durchführung von Verfahren am Tier; EU-Funktionen A\, C\, D) ist innerhalb der EU\, aber auch in Nicht-EU-Ländern\, der Nachweis der versuchstierkundlichen Sachkunde in Theorie und Praxis erforderlich.\nDazu bietet die TiHo Kurse in deutscher und englischer Sprache für die Spezies Maus und Ratte an\, die inhaltlich mit den ehemaligen FELASA B-Kursen vergleichbar sind.\nDiese Kurse sind von der GV-SOLAS zertifiziert und von der ATF mit 19 Stunden anerkannt. \nRegelungen für Auszubildende \nAuszubildende zum/zur Biologielaborant*in: \n\nKurs-Anmeldung ist erst zum zweiten Lehrjahr möglich.\n\nAuszubildende zum/zur Tierpfleger*in: \n\nKurs-Anmeldung ist erst nach Abschluss der Ausbildung möglich.\n\nDer Kurs ist von der ATF mit 39 Stunden anerkannt. \nKursablauf:\nOnline-Theoriekurs in Kombination mit einem Praxistraining in Präsenz\nKursblock 1: Vermittlung der theoretischen Sachkunde (12 Tage)\nWie? E-Learning und theoretische Prüfung (Selbststudium mit freier Zeiteinteilung)\nWo? Moodle \nKursblock 2 : Vermittlung der praktischen Sachkunde (4 Tage)\nWie? Training in der Gruppe\nWo? TiHo\, Bischofsholer Damm 15\, Geb. 123 \nNach der Anmeldung werden zu Kursbeginn die Kursunterlagen für Sie freigeschaltet. \nMehrfachanmeldungen über einen Namen sind nicht möglich und werden gelöscht. \nDie erfolgreiche Kursteilnahme wird durch ein Zertifikat in deutscher Sprache bestätigt. \nKosten:\n0 € für die erste Anmeldung von TiHo-Mitarbeiter*innen\, TiHo-Studierenden im PJ und Promotionsstudierenden mit TiHo-Arbeitsvertrag\n2100 € für alle externen Teilnehmer*innen und wiederholte Anmeldungen von TiHo-Mitarbeiter*innen\, TiHo-Studierenden im PJ und Promotionsstudierenden mit TiHo-Arbeitsvertrag \nEine kostenlose Stornierung der Kursanmeldung ist nur bis 30 Tage vor Kursbeginn möglich. \nAnmeldungen von TiHo-Mitarbeiter*innen\, TiHo-Studierenden im PJ und Promotionsstudierenden mit TiHo-Arbeitsvertrag müssen über ihre TiHo-Mailadresse und unter Angabe ihrer IDM-Nummer erfolgen. \nAnmeldungen von TiHo-Mitarbeiter*innen\, TiHo-Studierenden im PJ und Promotionsstudierenden mit TiHo-Arbeitsvertrag mit ihren privaten Mailadressen und/oder ohne Angabe ihrer IDM-Nummer werden in jedem Fall als Anmeldungen externer Teilnehmer*innen gewertet und auch so in Rechung gestellt.   \nFür mehr Informationen zum Kurs klicken Sie auf folgenden Link: \nKursinformationen
URL:https://tierschutz-kurse.de/kurs/basiskurs-tierschutz-versuchstierkunde-ehem-felasa-b-kurs-fur-personen-die-mit-tieren-arbeiten-pflege-totung-und-durchfuhrung-von-verfahren-eu-kategorien-a-c-d-spezies-mau-6/
LOCATION:TiHo-Campus Bischofsholer Damm\, Geb. 123\, Bischofsholer Damm 15\, Hannover\, Niedersachsen\, 30173
CATEGORIES:FELASA_B_de
ORGANIZER;CN="Prof. Dr. Bernhard Hiebl":MAILTO:bernhard.hiebl@tiho-hannover.de
END:VEVENT
BEGIN:VEVENT
DTSTART;VALUE=DATE:20250428
DTEND;VALUE=DATE:20250508
DTSTAMP:20260420T165632
CREATED:20241106T124028Z
LAST-MODIFIED:20250217T110202Z
UID:10000137-1745798400-1746662399@tierschutz-kurse.de
SUMMARY:Kurs zum Erwerb der versuchstierkundlichen Kenntnisse
DESCRIPTION:Für die wissenschaftliche Arbeit mit Tieren (Pflegen und Töten von Tieren\, Durchführung von Verfahren am Tier; EU-Funktionen A\, C\, D) ist innerhalb der EU\, aber auch in Nicht-EU-Ländern\, der Nachweis der versuchstierkundlichen Sachkunde in Theorie und Praxis erforderlich.\nDer Theoriekurs vermittelt alle von der EU-Richtlinie 2010/63 (Anhang V) und der Tierschutzversuchstierverordnung (Anlage 1) geforderten tierart-unspezifischen und tierart-spezifischen Inhalte in Bezug auf die Spezies Fisch\, Maus\, Ratte\, Kaninchen\, Meerschweinchen\, Nutzgeflügel und Schwein. \nFür wen ist der Kurs geeignet?\nFür alle Personen\, die sich an Tierversuchen beteiligen wollen\, und für die Zieltierart bereits die nötige praktische Expertise belegen können. \nBeispiel: Tiermediziner/-innen\, die im Rahmen eines Forschungsprojektes an Tieren Maßnahmen umsetzen wollen\, die im Studium Teil der regulären Pflichtlehre sind (z.B. Injektionen\, Blutentnahmen\, einfache chirurgische Nähte bei Hunden\, Katzen\, Schweinen\, Schafen\, Ziegen\, Rindern\, Pferden). \nKursinhalte\nDie Kursinhalte können in freier Zeiteinteilung im Selbststudium innerhalb einer Woche in deutscher oder englischer Sprache erarbeitet werden (E-Learning). Nach der Anmeldung werden die Kursunterlagen\, am Tag des Kurses\, für Sie freigeschaltet. Die erfolgreiche Kursteilnahme wird durch ein Zertifikat in deutscher Sprache bestätigt. \nKosten:\n0 € für die erste Anmeldung von TiHo-Mitarbeiter*innen\, TiHo-Studierenden im PJ und Promotionsstudierenden mit TiHo-Arbeitsvertrag\n600 € für externe Teilnehmer*innen und wiederholte Anmeldungen von TiHo-Mitarbeiter*innen\, TiHo-Studierenden im PJ und Promotionsstudierenden mit TiHo-Arbeitsvertrag \n 
URL:https://tierschutz-kurse.de/kurs/kurs-zum-erwerb-der-versuchstierkundlichen-kenntnisse-6/
LOCATION:online
CATEGORIES:Sachkunde_de
ORGANIZER;CN="Prof. Dr. Bernhard Hiebl":MAILTO:bernhard.hiebl@tiho-hannover.de
END:VEVENT
BEGIN:VEVENT
DTSTART;VALUE=DATE:20250428
DTEND;VALUE=DATE:20250508
DTSTAMP:20260420T165632
CREATED:20241107T101612Z
LAST-MODIFIED:20250217T124832Z
UID:10000150-1745798400-1746662399@tierschutz-kurse.de
SUMMARY:Fokuskurs "Deutsches Tierversuchsrecht"
DESCRIPTION:Für die wissenschaftliche Arbeit mit Tieren (Pflegen und Töten von Tieren\, Durchführung von Verfahren am Tier; EU-Funktionen A\, C\, D) ist innerhalb der EU\, aber auch in Nicht-EU-Ländern\, der Nachweis der versuchstierkundlichen Sachkunde in Theorie und Praxis erforderlich. \nDer Theoriekurs vermittelt von der EU-Richtlinie 2010/63 (Anhang V) und der Tierschutzversuchstierverordnung (Anlage 1) geforderte Kenntnisse des nationalen Versuchstierrechts. \nFür wen ist der Kurs geeignet? \nFür alle\, die bereits im EU- und Nicht-EU-Ausland einen versuchstierkundlichen Kurs besucht haben\, und nun die Kenntnis der Rechtsgrundlagen zu Tierversuchen in Deutschland nachweisen müssen. \nKursinhalte \nDie Kursinhalte können in freier Zeiteinteilung im Selbststudium innerhalb einer Woche in deutscher oder englischer Sprache erarbeitet werden (E-Learning\, asynchron). Nach der Anmeldung werden die Kursunterlagen für Sie freigeschaltet. Die erfolgreiche Kursteilnahme wird durch ein Zertifikat in deutscher Sprache bestätigt. \nKosten \n0 € für die erste Anmeldung von TiHo-Mitarbeiter:Innen\, TiHo-Studierende und TiHo-Promotionsstudierende mit TiHo-Arbeitsvertrag\n400 € für alle Externen und wiederholte Anmeldung von TiHo-Mitarbeiter*innen\, TiHo-Studierenden im PJ und Promotionsstudierenden mit TiHo-Arbeitsvertrag \n 
URL:https://tierschutz-kurse.de/kurs/fokuskurs-deutsches-tierversuchsrecht-5/
LOCATION:online
CATEGORIES:Fokuskurs_Tierversuchsrecht_de
ORGANIZER;CN="Prof. Dr. Bernhard Hiebl":MAILTO:bernhard.hiebl@tiho-hannover.de
END:VEVENT
BEGIN:VEVENT
DTSTART;VALUE=DATE:20250428
DTEND;VALUE=DATE:20250508
DTSTAMP:20260420T165632
CREATED:20241107T121521Z
LAST-MODIFIED:20250217T131111Z
UID:10000162-1745798400-1746662399@tierschutz-kurse.de
SUMMARY:Specialised lesson „german laboratory animal welfare law“
DESCRIPTION:For scientific work with animals (caring for and killing animals\, performing procedures on animals; EU functions A\, C\, D)\, within the EU\, but also in non-EU countries\, proof of expertise in laboratory animal science in theory and practice is required. \nThis theory course imparts contents regarding german laboratory animal welfare law required by the EU directive 2010/63 (Annex V) and Tierschutzversuchstierverordnung (Annex 1). \nFor whom this course is made for?\nFor everyone who did a labororyatory animal course abroad and needs a proof of expertise in german laboratory welfare law required by the competent authorities. \nCourse schedule:\nThe complete course is online and all e-learning modules are in englisch.\nIn order to work through the e-learning modules you have one week for your self studies.\nAfter your registration you will get access to the e-learning modules via MS Teams\, when the course starts.\nAfter passing online exam you will get a certificate in german language. \nCost:\n0 € for the first registration of TiHo employees\, TiHo students and TiHo doctoral students with a TiHo employment contract \n400 € for all external and repeated registration of TiHo employees\, TiHo students in PJ and doctoral students with TiHo employment contract \n 
URL:https://tierschutz-kurse.de/kurs/specialised-lesson-german-laboratory-animal-welfare-law-20/
CATEGORIES:Fokuskurs_Versuchstierrecht_en
END:VEVENT
END:VCALENDAR