BEGIN:VCALENDAR
VERSION:2.0
PRODID:-//TiHo Hannover Kurse - ECPv6.15.15//NONSGML v1.0//EN
CALSCALE:GREGORIAN
METHOD:PUBLISH
X-ORIGINAL-URL:https://tierschutz-kurse.de
X-WR-CALDESC:Events for TiHo Hannover Kurse
REFRESH-INTERVAL;VALUE=DURATION:PT1H
X-Robots-Tag:noindex
X-PUBLISHED-TTL:PT1H
BEGIN:VTIMEZONE
TZID:Europe/Berlin
BEGIN:DAYLIGHT
TZOFFSETFROM:+0100
TZOFFSETTO:+0200
TZNAME:CEST
DTSTART:20240331T010000
END:DAYLIGHT
BEGIN:STANDARD
TZOFFSETFROM:+0200
TZOFFSETTO:+0100
TZNAME:CET
DTSTART:20241027T010000
END:STANDARD
BEGIN:DAYLIGHT
TZOFFSETFROM:+0100
TZOFFSETTO:+0200
TZNAME:CEST
DTSTART:20250330T010000
END:DAYLIGHT
BEGIN:STANDARD
TZOFFSETFROM:+0200
TZOFFSETTO:+0100
TZNAME:CET
DTSTART:20251026T010000
END:STANDARD
BEGIN:DAYLIGHT
TZOFFSETFROM:+0100
TZOFFSETTO:+0200
TZNAME:CEST
DTSTART:20260329T010000
END:DAYLIGHT
BEGIN:STANDARD
TZOFFSETFROM:+0200
TZOFFSETTO:+0100
TZNAME:CET
DTSTART:20261025T010000
END:STANDARD
END:VTIMEZONE
BEGIN:VEVENT
DTSTART;VALUE=DATE:20250428
DTEND;VALUE=DATE:20250508
DTSTAMP:20260420T152253
CREATED:20241106T124028Z
LAST-MODIFIED:20250217T110202Z
UID:10000137-1745798400-1746662399@tierschutz-kurse.de
SUMMARY:Kurs zum Erwerb der versuchstierkundlichen Kenntnisse
DESCRIPTION:Für die wissenschaftliche Arbeit mit Tieren (Pflegen und Töten von Tieren\, Durchführung von Verfahren am Tier; EU-Funktionen A\, C\, D) ist innerhalb der EU\, aber auch in Nicht-EU-Ländern\, der Nachweis der versuchstierkundlichen Sachkunde in Theorie und Praxis erforderlich.\nDer Theoriekurs vermittelt alle von der EU-Richtlinie 2010/63 (Anhang V) und der Tierschutzversuchstierverordnung (Anlage 1) geforderten tierart-unspezifischen und tierart-spezifischen Inhalte in Bezug auf die Spezies Fisch\, Maus\, Ratte\, Kaninchen\, Meerschweinchen\, Nutzgeflügel und Schwein. \nFür wen ist der Kurs geeignet?\nFür alle Personen\, die sich an Tierversuchen beteiligen wollen\, und für die Zieltierart bereits die nötige praktische Expertise belegen können. \nBeispiel: Tiermediziner/-innen\, die im Rahmen eines Forschungsprojektes an Tieren Maßnahmen umsetzen wollen\, die im Studium Teil der regulären Pflichtlehre sind (z.B. Injektionen\, Blutentnahmen\, einfache chirurgische Nähte bei Hunden\, Katzen\, Schweinen\, Schafen\, Ziegen\, Rindern\, Pferden). \nKursinhalte\nDie Kursinhalte können in freier Zeiteinteilung im Selbststudium innerhalb einer Woche in deutscher oder englischer Sprache erarbeitet werden (E-Learning). Nach der Anmeldung werden die Kursunterlagen\, am Tag des Kurses\, für Sie freigeschaltet. Die erfolgreiche Kursteilnahme wird durch ein Zertifikat in deutscher Sprache bestätigt. \nKosten:\n0 € für die erste Anmeldung von TiHo-Mitarbeiter*innen\, TiHo-Studierenden im PJ und Promotionsstudierenden mit TiHo-Arbeitsvertrag\n600 € für externe Teilnehmer*innen und wiederholte Anmeldungen von TiHo-Mitarbeiter*innen\, TiHo-Studierenden im PJ und Promotionsstudierenden mit TiHo-Arbeitsvertrag \n 
URL:https://tierschutz-kurse.de/kurs/kurs-zum-erwerb-der-versuchstierkundlichen-kenntnisse-6/
LOCATION:online
CATEGORIES:Sachkunde_de
ORGANIZER;CN="Prof. Dr. Bernhard Hiebl":MAILTO:bernhard.hiebl@tiho-hannover.de
END:VEVENT
BEGIN:VEVENT
DTSTART;VALUE=DATE:20250428
DTEND;VALUE=DATE:20250508
DTSTAMP:20260420T152253
CREATED:20241107T101612Z
LAST-MODIFIED:20250217T124832Z
UID:10000150-1745798400-1746662399@tierschutz-kurse.de
SUMMARY:Fokuskurs "Deutsches Tierversuchsrecht"
DESCRIPTION:Für die wissenschaftliche Arbeit mit Tieren (Pflegen und Töten von Tieren\, Durchführung von Verfahren am Tier; EU-Funktionen A\, C\, D) ist innerhalb der EU\, aber auch in Nicht-EU-Ländern\, der Nachweis der versuchstierkundlichen Sachkunde in Theorie und Praxis erforderlich. \nDer Theoriekurs vermittelt von der EU-Richtlinie 2010/63 (Anhang V) und der Tierschutzversuchstierverordnung (Anlage 1) geforderte Kenntnisse des nationalen Versuchstierrechts. \nFür wen ist der Kurs geeignet? \nFür alle\, die bereits im EU- und Nicht-EU-Ausland einen versuchstierkundlichen Kurs besucht haben\, und nun die Kenntnis der Rechtsgrundlagen zu Tierversuchen in Deutschland nachweisen müssen. \nKursinhalte \nDie Kursinhalte können in freier Zeiteinteilung im Selbststudium innerhalb einer Woche in deutscher oder englischer Sprache erarbeitet werden (E-Learning\, asynchron). Nach der Anmeldung werden die Kursunterlagen für Sie freigeschaltet. Die erfolgreiche Kursteilnahme wird durch ein Zertifikat in deutscher Sprache bestätigt. \nKosten \n0 € für die erste Anmeldung von TiHo-Mitarbeiter:Innen\, TiHo-Studierende und TiHo-Promotionsstudierende mit TiHo-Arbeitsvertrag\n400 € für alle Externen und wiederholte Anmeldung von TiHo-Mitarbeiter*innen\, TiHo-Studierenden im PJ und Promotionsstudierenden mit TiHo-Arbeitsvertrag \n 
URL:https://tierschutz-kurse.de/kurs/fokuskurs-deutsches-tierversuchsrecht-5/
LOCATION:online
CATEGORIES:Fokuskurs_Tierversuchsrecht_de
ORGANIZER;CN="Prof. Dr. Bernhard Hiebl":MAILTO:bernhard.hiebl@tiho-hannover.de
END:VEVENT
BEGIN:VEVENT
DTSTART;VALUE=DATE:20250428
DTEND;VALUE=DATE:20250508
DTSTAMP:20260420T152253
CREATED:20241107T121521Z
LAST-MODIFIED:20250217T131111Z
UID:10000162-1745798400-1746662399@tierschutz-kurse.de
SUMMARY:Specialised lesson „german laboratory animal welfare law“
DESCRIPTION:For scientific work with animals (caring for and killing animals\, performing procedures on animals; EU functions A\, C\, D)\, within the EU\, but also in non-EU countries\, proof of expertise in laboratory animal science in theory and practice is required. \nThis theory course imparts contents regarding german laboratory animal welfare law required by the EU directive 2010/63 (Annex V) and Tierschutzversuchstierverordnung (Annex 1). \nFor whom this course is made for?\nFor everyone who did a labororyatory animal course abroad and needs a proof of expertise in german laboratory welfare law required by the competent authorities. \nCourse schedule:\nThe complete course is online and all e-learning modules are in englisch.\nIn order to work through the e-learning modules you have one week for your self studies.\nAfter your registration you will get access to the e-learning modules via MS Teams\, when the course starts.\nAfter passing online exam you will get a certificate in german language. \nCost:\n0 € for the first registration of TiHo employees\, TiHo students and TiHo doctoral students with a TiHo employment contract \n400 € for all external and repeated registration of TiHo employees\, TiHo students in PJ and doctoral students with TiHo employment contract \n 
URL:https://tierschutz-kurse.de/kurs/specialised-lesson-german-laboratory-animal-welfare-law-20/
CATEGORIES:Fokuskurs_Versuchstierrecht_en
END:VEVENT
BEGIN:VEVENT
DTSTART;VALUE=DATE:20250519
DTEND;VALUE=DATE:20250607
DTSTAMP:20260420T152253
CREATED:20241023T162923Z
LAST-MODIFIED:20241126T135346Z
UID:10000125-1747612800-1749254399@tierschutz-kurse.de
SUMMARY:Aufbaukurs „Tierschutz/Versuchstierkunde“ (ehem. FELASA C-Kurs) für Personen\, die Tierversuche leiten oder planen EU-Kategorie B
DESCRIPTION:Für die Leitung von Tierversuchen (EU-Funktion B) ist innerhalb der EU\, aber auch in Nicht-EU-Ländern\, der Nachweis einer umfassenden versuchstierkundlichen Sachkunde in Theorie und Praxis erforderlich.\nDazu bietet die TiHo in deutscher Sprache spezies-übergreifende Kurse an\, die inhaltlich den ehemaligen FELASA C-Kursen vergleichbar sind. \nTeilnahmevoraussetzung: \n\nerfolgreich besuchter versuchstierkundlicher Basiskurs (z.B. FELASA B-Kurs).\nmindestens 3-jährige tierexperimentelle Erfahrung (tierartspezifisch).\n\nDer Kurs ist von der ATF mit 34 Stunden anerkannt. \nKursablauf:\nOnline-Theoriekurs (Moodle) in Kombination mit einem Online-Präsenzblock (Microsoft Teams)\n1. & 2. Woche: Vermittlung theoretischer Inhalte \nWie?\nE-Learning auf dem externen Moodle der Stiftung Tierärztliche Hochschule Hannover (Selbststudium mit freier Zeiteinteilung) \nInhalte? \n\nRegularien zum Tierversuch\nBasiskenntnisse zum Tierversuchsantrag\nBesonderheiten folgender Tiermodelle im Versuch: Maus\, Ratte\, Kaninchen\, Meerschweinchen\, ….Schwein\, Nutzgeflügel\, Primat\, Fisch\, Frosch\nErlaubnis zur Zucht\, Haltung und Verwendung von Versuchstieren gemäß § 11 TierSchG\nUmsetzung des 3 R-Konzepts\nDokumentationspflichten\nVersuchstiermeldung\n\n3. Woche: Workshop zur Vermittlung vertiefter Kenntnisse\nWie?\nin Onlinepräsenz (Mo-Fr\, 09.00-13.30) \nInhalte? \n\nAufbaukenntnisse zum Tierversuchsantrag (in Zusammenarbeit mit der für Tierversuchsanträge zuständigen Behörde).\nVideo- und Bild-gestützte Fallbesprechungen zum Belastungs-Scoring in Kleingruppenarbeit.\n\nMehrfachanmeldungen über einen Namen sind nicht möglich und werden gelöscht. \nZum Start der Theorie werden die Kursunterlagen für Sie freigeschaltet. Die erfolgreiche Kursteilnahme wird durch ein Zertifikat in deutscher und englischer Sprache bestätigt. \nKosten:\n0 € für die erste Anmeldung von Mitarbeiter*innen der Stiftung Tierärztliche Hochschule Hannover\n2100 € für alle externen Teilnehmer*innen und weitere Anmeldungen von Mitarbeiter*innen der Stiftung Tierärztliche Hochschule Hannover \nEine kostenlose Stornierung der Kursanmeldung ist nur bis 30 Tage vor Kursbeginn möglich. \nAnmeldungen von TiHo-Mitarbeiter*innen\, TiHo-Studierenden im PJ und Promotionsstudierenden mit TiHo-Arbeitsvertrag müssen über ihre TiHo-Mailadresse und unter Angabe ihrer IDM-Nummer erfolgen. \nAnmeldungen von TiHo-Mitarbeiter*innen\, TiHo-Studierenden im PJ und Promotionsstudierenden mit TiHo-Arbeitsvertrag mit ihren privaten Mailadressen und/oder ohne Angabe ihrer IDM-Nummer werden in jedem Fall als Anmeldungen externer Teilnehmer*innen gewertet und auch so in Rechnung gestellt. \nFür mehr Informationen zum Kurs klicken Sie auf folgenden Link: \nKursinformationen
URL:https://tierschutz-kurse.de/kurs/aufbaukurs-tierschutz-versuchstierkunde-ehem-felasa-c-kurs-fur-personen-die-tierversuche-leiten-oder-planen-eu-kategorie-b-6/
LOCATION:online
CATEGORIES:FELASA_C_de
ORGANIZER;CN="Prof. Dr. Bernhard Hiebl":MAILTO:bernhard.hiebl@tiho-hannover.de
END:VEVENT
BEGIN:VEVENT
DTSTART;VALUE=DATE:20250526
DTEND;VALUE=DATE:20250605
DTSTAMP:20260420T152253
CREATED:20241106T130052Z
LAST-MODIFIED:20250217T110045Z
UID:10000138-1748217600-1749081599@tierschutz-kurse.de
SUMMARY:Kurs zum Erwerb der versuchstierkundlichen Kenntnisse
DESCRIPTION:Für die wissenschaftliche Arbeit mit Tieren (Pflegen und Töten von Tieren\, Durchführung von Verfahren am Tier; EU-Funktionen A\, C\, D) ist innerhalb der EU\, aber auch in Nicht-EU-Ländern\, der Nachweis der versuchstierkundlichen Sachkunde in Theorie und Praxis erforderlich.\nDer Theoriekurs vermittelt alle von der EU-Richtlinie 2010/63 (Anhang V) und der Tierschutzversuchstierverordnung (Anlage 1) geforderten tierart-unspezifischen und tierart-spezifischen Inhalte in Bezug auf die Spezies Fisch\, Maus\, Ratte\, Kaninchen\, Meerschweinchen\, Nutzgeflügel und Schwein. \nFür wen ist der Kurs geeignet?\nFür alle Personen\, die sich an Tierversuchen beteiligen wollen\, und für die Zieltierart bereits die nötige praktische Expertise belegen können. \nBeispiel: Tiermediziner/-innen\, die im Rahmen eines Forschungsprojektes an Tieren Maßnahmen umsetzen wollen\, die im Studium Teil der regulären Pflichtlehre sind (z.B. Injektionen\, Blutentnahmen\, einfache chirurgische Nähte bei Hunden\, Katzen\, Schweinen\, Schafen\, Ziegen\, Rindern\, Pferden). \nKursinhalte\nDie Kursinhalte können in freier Zeiteinteilung im Selbststudium innerhalb einer Woche in deutscher oder englischer Sprache erarbeitet werden (E-Learning). Nach der Anmeldung werden die Kursunterlagen\, am Tag des Kurses\, für Sie freigeschaltet. Die erfolgreiche Kursteilnahme wird durch ein Zertifikat in deutscher Sprache bestätigt. \nKosten:\n0 € für die erste Anmeldung von TiHo-Mitarbeiter*innen\, TiHo-Studierenden im PJ und Promotionsstudierenden mit TiHo-Arbeitsvertrag\n600 € für externe Teilnehmer*innen und wiederholte Anmeldungen von TiHo-Mitarbeiter*innen\, TiHo-Studierenden im PJ und Promotionsstudierenden mit TiHo-Arbeitsvertrag \n 
URL:https://tierschutz-kurse.de/kurs/kurs-zum-erwerb-der-versuchstierkundlichen-kenntnisse-4/
LOCATION:online
CATEGORIES:Sachkunde_de
ORGANIZER;CN="Prof. Dr. Bernhard Hiebl":MAILTO:bernhard.hiebl@tiho-hannover.de
END:VEVENT
BEGIN:VEVENT
DTSTART;VALUE=DATE:20250526
DTEND;VALUE=DATE:20250605
DTSTAMP:20260420T152253
CREATED:20241107T102053Z
LAST-MODIFIED:20250217T125119Z
UID:10000151-1748217600-1749081599@tierschutz-kurse.de
SUMMARY:Fokuskurs "Deutsches Tierversuchsrecht"
DESCRIPTION:Für die wissenschaftliche Arbeit mit Tieren (Pflegen und Töten von Tieren\, Durchführung von Verfahren am Tier; EU-Funktionen A\, C\, D) ist innerhalb der EU\, aber auch in Nicht-EU-Ländern\, der Nachweis der versuchstierkundlichen Sachkunde in Theorie und Praxis erforderlich. \nDer Theoriekurs vermittelt von der EU-Richtlinie 2010/63 (Anhang V) und der Tierschutzversuchstierverordnung (Anlage 1) geforderte Kenntnisse des nationalen Versuchstierrechts. \nFür wen ist der Kurs geeignet? \nFür alle\, die bereits im EU- und Nicht-EU-Ausland einen versuchstierkundlichen Kurs besucht haben\, und nun die Kenntnis der Rechtsgrundlagen zu Tierversuchen in Deutschland nachweisen müssen. \nKursinhalte \nDie Kursinhalte können in freier Zeiteinteilung im Selbststudium innerhalb einer Woche in deutscher oder englischer Sprache erarbeitet werden (E-Learning\, asynchron). Nach der Anmeldung werden die Kursunterlagen für Sie freigeschaltet. Die erfolgreiche Kursteilnahme wird durch ein Zertifikat in deutscher Sprache bestätigt. \nKosten \n0 € für die erste Anmeldung von TiHo-Mitarbeiter*innen\, TiHo-Studierende und TiHo-Promotionsstudierende mit TiHo-Arbeitsvertrag \n400 € für alle Externen und wiederholte Anmeldung von TiHo-Mitarbeiter*innen\, TiHo-Studierenden im PJ und Promotionsstudierenden mit TiHo-Arbeitsvertrag \n 
URL:https://tierschutz-kurse.de/kurs/fokuskurs-deutsches-tierversuchsrecht-6/
LOCATION:online
CATEGORIES:Fokuskurs_Tierversuchsrecht_de
ORGANIZER;CN="Prof. Dr. Bernhard Hiebl":MAILTO:bernhard.hiebl@tiho-hannover.de
END:VEVENT
BEGIN:VEVENT
DTSTART;VALUE=DATE:20250526
DTEND;VALUE=DATE:20250605
DTSTAMP:20260420T152253
CREATED:20241107T121807Z
LAST-MODIFIED:20250217T131330Z
UID:10000163-1748217600-1749081599@tierschutz-kurse.de
SUMMARY:Specialised lesson „german laboratory animal welfare law“
DESCRIPTION:For scientific work with animals (caring for and killing animals\, performing procedures on animals; EU functions A\, C\, D)\, within the EU\, but also in non-EU countries\, proof of expertise in laboratory animal science in theory and practice is required. \nThis theory course imparts contents regarding german laboratory animal welfare law required by the EU directive 2010/63 (Annex V) and Tierschutzversuchstierverordnung (Annex 1). \nFor whom this course is made for?\nFor everyone who did a labororyatory animal course abroad and needs a proof of expertise in german laboratory welfare law required by the competent authorities. \nCourse schedule:\nThe complete course is online and all e-learning modules are in englisch.\nIn order to work through the e-learning modules you have one week for your self studies.\nAfter your registration you will get access to the e-learning modules via MS Teams\, when the course starts.\nAfter passing online exam you will get a certificate in german language. \nCost:\n0 € for the first registration of TiHo employees\, TiHo students and TiHo doctoral students with a TiHo employment contract \n400 € for all external and repeated registration of TiHo employees\, TiHo students in PJ and doctoral students with TiHo employment contract \n 
URL:https://tierschutz-kurse.de/kurs/specialised-lesson-german-laboratory-animal-welfare-law-21/
CATEGORIES:Fokuskurs_Versuchstierrecht_en
END:VEVENT
END:VCALENDAR