BEGIN:VCALENDAR
VERSION:2.0
PRODID:-//TiHo Hannover Kurse - ECPv6.15.15//NONSGML v1.0//EN
CALSCALE:GREGORIAN
METHOD:PUBLISH
X-WR-CALNAME:TiHo Hannover Kurse
X-ORIGINAL-URL:https://tierschutz-kurse.de
X-WR-CALDESC:Events for TiHo Hannover Kurse
REFRESH-INTERVAL;VALUE=DURATION:PT1H
X-Robots-Tag:noindex
X-PUBLISHED-TTL:PT1H
BEGIN:VTIMEZONE
TZID:Europe/Berlin
BEGIN:DAYLIGHT
TZOFFSETFROM:+0100
TZOFFSETTO:+0200
TZNAME:CEST
DTSTART:20250330T010000
END:DAYLIGHT
BEGIN:STANDARD
TZOFFSETFROM:+0200
TZOFFSETTO:+0100
TZNAME:CET
DTSTART:20251026T010000
END:STANDARD
BEGIN:DAYLIGHT
TZOFFSETFROM:+0100
TZOFFSETTO:+0200
TZNAME:CEST
DTSTART:20260329T010000
END:DAYLIGHT
BEGIN:STANDARD
TZOFFSETFROM:+0200
TZOFFSETTO:+0100
TZNAME:CET
DTSTART:20261025T010000
END:STANDARD
BEGIN:DAYLIGHT
TZOFFSETFROM:+0100
TZOFFSETTO:+0200
TZNAME:CEST
DTSTART:20270328T010000
END:DAYLIGHT
BEGIN:STANDARD
TZOFFSETFROM:+0200
TZOFFSETTO:+0100
TZNAME:CET
DTSTART:20271031T010000
END:STANDARD
END:VTIMEZONE
BEGIN:VEVENT
DTSTART;VALUE=DATE:20260803
DTEND;VALUE=DATE:20260813
DTSTAMP:20260420T040430
CREATED:20250929T114910Z
LAST-MODIFIED:20260224T090905Z
UID:10000185-1785715200-1786579199@tierschutz-kurse.de
SUMMARY:Fokuskurs "Deutsches Tierversuchsrecht"
DESCRIPTION:Für die wissenschaftliche Arbeit mit Tieren (Pflegen und Töten von Tieren\, Durchführung von Verfahren am Tier; EU-Funktionen A\, C\, D) ist innerhalb der EU\, aber auch in Nicht-EU-Ländern\, der Nachweis der versuchstierkundlichen Sachkunde in Theorie und Praxis erforderlich. \nDer Theoriekurs vermittelt von der EU-Richtlinie 2010/63 (Anhang V) und der Tierschutzversuchstierverordnung (Anlage 1) geforderte Kenntnisse des nationalen Versuchstierrechts. \nFür wen ist der Kurs geeignet? \nFür alle\, die bereits im EU- und Nicht-EU-Ausland einen versuchstierkundlichen Kurs besucht haben\, und nun die Kenntnis der Rechtsgrundlagen zu Tierversuchen in Deutschland nachweisen müssen. \nKursinhalte \nDie Kursinhalte können in freier Zeiteinteilung im Selbststudium innerhalb einer Woche in deutscher oder englischer Sprache erarbeitet werden (E-Learning\, asynchron).\nNach der Anmeldung werden die Kursunterlagen für Sie freigeschaltet.\nDie erfolgreiche Kursteilnahme wird durch ein Zertifikat in deutscher Sprache bestätigt. \nKosten \n0 € für Promotionsstudierende mit TiHo-Arbeitsvertrag\, Mitarbeiter*innen\, Veterinärmedizinstudierende und Studierende der Masterstudiengänge der Stiftung Tierärztlichen Hochschule Hannover \n400 € für externe Teilnehmer*innen \nAnmeldungen von Promotionsstudierenden mit TiHo-Arbeitsvertrag\, Mitarbeiter*innen\, Veterinärmedizinstudierenden und Studierenden der Masterstudiengänge der Stiftung Tierärztlichen Hochschule Hannover müssen unter Angabe ihrer IDM-Nummer und mit ihrer TiHo-Mailadresse erfolgen.\nAnmeldungen von Teilnehmern der genannten Gruppen ohne Angabe ihrer TiHo-IDM-Nummer und TiHo-Mailadresse werden in jedem Fall als Anmeldungen externer Teilnehmer*innen gewertet und auch so in Rechnung gestellt. \n 
URL:https://tierschutz-kurse.de/kurs/fokuskurs-deutsches-tierversuchsrecht-20/
LOCATION:online
CATEGORIES:Fokuskurs_Tierversuchsrecht_de
ORGANIZER;CN="Prof. Dr. Bernhard Hiebl":MAILTO:bernhard.hiebl@tiho-hannover.de
END:VEVENT
BEGIN:VEVENT
DTSTART;VALUE=DATE:20260803
DTEND;VALUE=DATE:20260813
DTSTAMP:20260420T040430
CREATED:20250930T103801Z
LAST-MODIFIED:20250930T103801Z
UID:10000193-1785715200-1786579199@tierschutz-kurse.de
SUMMARY:Focus course „german laboratory animal welfare law“
DESCRIPTION:For scientific work with animals (caring for and killing animals\, performing procedures on animals; EU functions A\, C\, D)\, within the EU\, but also in non-EU countries\, proof of expertise in laboratory animal science in theory and practice is required. \nThis theory course imparts contents regarding german laboratory animal welfare law required by the EU directive 2010/63 (Annex V) and Tierschutzversuchstierverordnung (Annex 1). \nFor whom this course is made for?\nFor everyone who did a labororyatory animal course abroad and needs a proof of expertise in german laboratory welfare law required by the competent authorities. \nCourse schedule:\nThe complete course is online and all e-learning modules are in englisch.\nIn order to work through the e-learning modules you have one week for your self studies.\nAfter your registration you will get access to the e-learning modules via Moodle\, when the course starts.\nAfter passing online exam you will get a certificate in german language. \nCost:\n0 € for doctoral students with a TiHo-employment contract\, employees\, enrolled veterinary student and enrolled M.Sc. student of the University of Veterinary Medicine Hannover \n400 € for external participants \nRegistrations from doctoral students with a TiHo-employment contract\, employees\, enrolled veterinary students (practical year) and enrolled M.Sc. students (3. semester) of the University of Veterinary Medicine Hannover must be done with their TiHo-IDM-number and TiHo-mailadress.\nRegistrations from members of the mentioned groups without their TiHo-IDM-number and/or with their private mailadress will be invoiced as external participants.
URL:https://tierschutz-kurse.de/kurs/focus-course-german-laboratory-animal-welfare-law-8/
CATEGORIES:Fokuskurs_Versuchstierrecht_en
END:VEVENT
BEGIN:VEVENT
DTSTART;VALUE=DATE:20260803
DTEND;VALUE=DATE:20260815
DTSTAMP:20260420T040430
CREATED:20250930T133317Z
LAST-MODIFIED:20250930T133317Z
UID:10000212-1785715200-1786751999@tierschutz-kurse.de
SUMMARY:Kurs zum Erwerb der versuchstierkundlichen Kenntnisse
DESCRIPTION:Für die wissenschaftliche Arbeit mit Tieren (Pflegen und Töten von Tieren\, Durchführung von Verfahren am Tier; EU-Funktionen A\, C\, D) ist innerhalb der EU\, aber auch in Nicht-EU-Ländern\, der Nachweis der versuchstierkundlichen Sachkunde in Theorie und Praxis erforderlich.\nDer Theoriekurs vermittelt alle von der EU-Richtlinie 2010/63 (Anhang V) und der Tierschutzversuchstierverordnung (Anlage 1) geforderten tierart-unspezifischen und tierart-spezifischen Inhalte in Bezug auf die Spezies Fisch\, Maus\, Ratte\, Kaninchen\, Meerschweinchen\, Nutzgeflügel und Schwein. \nFür wen ist der Kurs geeignet?\nFür alle Personen\, die sich an Tierversuchen beteiligen wollen\, und für die Zieltierart bereits die nötige praktische Expertise belegen können. \nBeispiel: Tiermediziner/-innen\, die im Rahmen eines Forschungsprojektes an Tieren Maßnahmen umsetzen wollen\, die im Studium Teil der regulären Pflichtlehre sind (z.B. Injektionen\, Blutentnahmen\, einfache chirurgische Nähte bei Hunden\, Katzen\, Schweinen\, Schafen\, Ziegen\, Rindern\, Pferden). \nKursinhalte\nDie Kursinhalte können in freier Zeiteinteilung im Selbststudium innerhalb einer Woche in deutscher oder englischer Sprache erarbeitet werden (E-Learning). Nach der Anmeldung werden die Kursunterlagen\, am Tag des Kurses\, für Sie freigeschaltet. Die erfolgreiche Kursteilnahme wird durch ein Zertifikat in deutscher Sprache bestätigt. \nKosten:\n0 € für Promotionsstudierende mit TiHo-Arbeitsvertrag\, Mitarbeiter*innen\, Veterinärmedizinstudierende und Studierende der Masterstudiengänge der Stiftung Tierärztlichen Hochschule Hannover \n600 € für externe Teilnehmer \n 
URL:https://tierschutz-kurse.de/kurs/kurs-zum-erwerb-der-versuchstierkundlichen-kenntnisse-21/
LOCATION:online
CATEGORIES:Sachkunde_de
ORGANIZER;CN="Prof. Dr. Bernhard Hiebl":MAILTO:bernhard.hiebl@tiho-hannover.de
END:VEVENT
BEGIN:VEVENT
DTSTART;VALUE=DATE:20260824
DTEND;VALUE=DATE:20260911
DTSTAMP:20260420T040430
CREATED:20250922T132033Z
LAST-MODIFIED:20260316T122910Z
UID:10000174-1787529600-1789084799@tierschutz-kurse.de
SUMMARY:Basiskurs „Tierschutz/Versuchstierkunde“ (ehem. FELASA B-Kurs) für Personen\, die mit Tieren arbeiten (Pflege\, Tötung und Durchführung von Verfahren) EU-Kategorien A\, C\, D  Spezies: Maus & Ratte
DESCRIPTION:Für die wissenschaftliche Arbeit mit Tieren (Pflegen und Töten von Tieren\, Durchführung von Verfahren am Tier; EU-Funktionen A\, C\, D) ist innerhalb der EU\, aber auch in Nicht-EU-Ländern\, der Nachweis der versuchstierkundlichen Sachkunde in Theorie und Praxis erforderlich.\nDazu bietet die TiHo Kurse in deutscher und englischer Sprache für die Spezies Maus und Ratte an\, die inhaltlich mit den ehemaligen FELASA B-Kursen vergleichbar sind.\nDiese Kurse sind von der GV-SOLAS zertifiziert und von der ATF mit 19 Stunden anerkannt. \nRegelungen für Auszubildende \nAuszubildende zum/zur Biologielaborant*in: \n\nKurs-Anmeldung ist erst nach dem zweiten Lehrjahr möglich (da der Kurs inhaltlich und zeitlich nicht darauf ausgelegt ist\, die Prüfung im zweiten Lehrjahr vorzubereiten).\n\nAuszubildende zum/zur Tierpfleger*in: \n\nKurs-Anmeldung ist erst nach Abschluss der Ausbildung möglich.\n\nDer Kurs ist von der ATF mit 39 Stunden anerkannt. \nKursablauf:\nOnline-Theoriekurs in Kombination mit einem Praxistraining in Präsenz\nKursblock 1: Vermittlung der theoretischen Sachkunde (12 Tage)\nWie? E-Learning und theoretische Prüfung (Selbststudium mit freier Zeiteinteilung)\nWo? Moodle \nKursblock 2 : Vermittlung der praktischen Sachkunde (4 Tage)\nWie? Training in der Gruppe\nWo? TiHo\, Bischofsholer Damm 15\, Geb. 123 \nNach der Anmeldung werden zu Kursbeginn die Kursunterlagen für Sie freigeschaltet. \nMehrfachanmeldungen über einen Namen sind nicht möglich und werden gelöscht. \nDie erfolgreiche Kursteilnahme wird durch ein Zertifikat in deutscher und englischer Sprache bestätigt. \nKosten:\n0 € für die erste Anmeldung von Promotionsstudierenden mit TiHo-Arbeitsvertrag\, TiHo-Mitarbeiter*innen\, Veterinärmedizinstudierenden der TiHo zur Vorbereitung auf das PJ und Studierenden der TiHo-Masterstudiengänge ab dem 3. Semester\n2100 € für alle externen Teilnehmer*innen und wiederholte Anmeldungen von Promotionsstudierenden mit TiHo-Arbeitsvertrag\, TiHo-Mitarbeiter*innen\, Veterinärmedizinstudierenden der TiHo zur Vorbereitung auf das PJ und Studierenden der TiHo-Masterstudiengänge ab dem 3. Semester \nEine kostenlose Stornierung der Kursanmeldung ist nur bis 30 Tage vor Kursbeginn möglich. \nAnmeldungen von Promotionsstudierenden mit TiHo-Arbeitsvertrag\, TiHo-Mitarbeiter*innen\, Veterinärmedizinstudierenden der TiHo zur Vorbereitung auf das PJ und Studierenden der TiHo-Masterstudiengänge ab dem 3. Semester müssen über ihre TiHo-Mailadresse und unter Angabe ihrer IDM-Nummer erfolgen. \nAnmeldungen von Promotionsstudierenden mit TiHo-Arbeitsvertrag\, TiHo-Mitarbeiter*innen\, Veterinärmedizinstudierenden der TiHo zur Vorbereitung auf das PJ und Studierenden der TiHo-Masterstudiengänge ab dem 3. Semester mit ihren privaten Mailadressen und/oder ohne Angabe ihrer IDM-Nummer werden in jedem Fall als Anmeldungen externer Teilnehmer*innen gewertet und auch so in Rechnung gestellt.   \nHinweis: Der Kurs wird nur ab einer Teilnehmerzahl von mindestens 4 Personen stattfinden.  \nFür mehr Informationen zum Kurs klicken Sie auf folgenden Link: \nKursinformationen
URL:https://tierschutz-kurse.de/kurs/basiskurs-tierschutz-versuchstierkunde-ehem-felasa-b-kurs-fur-personen-die-mit-tieren-arbeiten-pflege-totung-und-durchfuhrung-von-verfahren-eu-kategorien-a-c-d-spezies-mau-10/
LOCATION:TiHo-Campus Bischofsholer Damm\, Geb. 123\, Bischofsholer Damm 15\, Hannover\, Niedersachsen\, 30173
CATEGORIES:FELASA_B_de
ORGANIZER;CN="Prof. Dr. Bernhard Hiebl":MAILTO:bernhard.hiebl@tiho-hannover.de
END:VEVENT
BEGIN:VEVENT
DTSTART;VALUE=DATE:20260831
DTEND;VALUE=DATE:20260919
DTSTAMP:20260420T040430
CREATED:20250923T114743Z
LAST-MODIFIED:20250923T114912Z
UID:10000178-1788134400-1789775999@tierschutz-kurse.de
SUMMARY:Aufbaukurs „Tierschutz/Versuchstierkunde“ (ehem. FELASA C-Kurs) für Personen\, die Tierversuche leiten oder planen EU-Kategorie B
DESCRIPTION:Für die Leitung von Tierversuchen (EU-Funktion B) ist innerhalb der EU\, aber auch in Nicht-EU-Ländern\, der Nachweis einer umfassenden versuchstierkundlichen Sachkunde in Theorie und Praxis erforderlich.\nDazu bietet die TiHo in deutscher Sprache spezies-übergreifende Kurse an\, die inhaltlich den ehemaligen FELASA C-Kursen vergleichbar sind. \nTeilnahmevoraussetzung: \n\nerfolgreich besuchter versuchstierkundlicher Basiskurs (z.B. FELASA B-Kurs).\nmindestens 3-jährige tierexperimentelle Erfahrung (tierartspezifisch).\n\nDer Kurs ist von der ATF mit 34 Stunden anerkannt. \nKursablauf:\nOnline-Theoriekurs (Moodle) in Kombination mit einem Online-Präsenzblock (Microsoft Teams)\n1. & 2. Woche: Vermittlung theoretischer Inhalte \nWie?\nE-Learning auf dem externen Moodle der Stiftung Tierärztliche Hochschule Hannover (Selbststudium mit freier Zeiteinteilung) \nInhalte? \n\nRegularien zum Tierversuch\nBasiskenntnisse zum Tierversuchsantrag\nBesonderheiten folgender Tiermodelle im Versuch: Maus\, Ratte\, Kaninchen\, Meerschweinchen\, ….Schwein\, Nutzgeflügel\, Primat\, Fisch\, Frosch\nErlaubnis zur Zucht\, Haltung und Verwendung von Versuchstieren gemäß § 11 TierSchG\nUmsetzung des 3 R-Konzepts\nDokumentationspflichten\nVersuchstiermeldung\n\n3. Woche: Workshop zur Vermittlung vertiefter Kenntnisse\nWie?\nin Onlinepräsenz (Mo-Fr\, 09.00-13.30) \nInhalte? \n\nAufbaukenntnisse zum Tierversuchsantrag (in Zusammenarbeit mit der für Tierversuchsanträge zuständigen Behörde).\nVideo- und Bild-gestützte Fallbesprechungen zum Belastungs-Scoring in Kleingruppenarbeit.\n\nMehrfachanmeldungen über einen Namen sind nicht möglich und werden gelöscht. \nZum Start der Theorie werden die Kursunterlagen für Sie freigeschaltet. Die erfolgreiche Kursteilnahme wird durch ein Zertifikat in deutscher und englischer Sprache bestätigt. \nKosten:\n0 € für die erste Anmeldung von Mitarbeiter*innen der Stiftung Tierärztliche Hochschule Hannover\n2100 € für alle externen Teilnehmer*innen und weitere Anmeldungen von Mitarbeiter*innen der Stiftung Tierärztliche Hochschule Hannover \nEine kostenlose Stornierung der Kursanmeldung ist nur bis 30 Tage vor Kursbeginn möglich. \nAnmeldungen von TiHo-Mitarbeiter*innen müssen über ihre TiHo-Mailadresse und unter Angabe ihrer IDM-Nummer erfolgen. \nAnmeldungen von TiHo-Mitarbeiter*innen mit ihren privaten Mailadressen und/oder ohne Angabe ihrer IDM-Nummer werden in jedem Fall als Anmeldungen externer Teilnehmer*innen gewertet und auch so in Rechnung gestellt.  \nFür mehr Informationen zum Kurs klicken Sie auf folgenden Link: \nKursinformationen
URL:https://tierschutz-kurse.de/kurs/aufbaukurs-tierschutz-versuchstierkunde-ehem-felasa-c-kurs-fur-personen-die-tierversuche-leiten-oder-planen-eu-kategorie-b-10/
LOCATION:online
CATEGORIES:FELASA_C_de
ORGANIZER;CN="Prof. Dr. Bernhard Hiebl":MAILTO:bernhard.hiebl@tiho-hannover.de
END:VEVENT
END:VCALENDAR